{
 "currentVersion": 10.91,
 "serviceDescription": "Adams County Hillshade",
 "name": "Hillshade",
 "description": "Adams County Hillshade",
 "extent": {
  "xmin": 2726042.8187561925,
  "ymin": 1291880.2816918036,
  "xmax": 4004538.7613885934,
  "ymax": 2180199.7869823766,
  "spatialReference": {
   "wkid": 102654,
   "latestWkid": 2232
  }
 },
 "initialExtent": {
  "xmin": 2726042.8187561925,
  "ymin": 1291880.2816918036,
  "xmax": 4004538.7613885934,
  "ymax": 2180199.7869823766,
  "spatialReference": {
   "wkid": 102654,
   "latestWkid": 2232
  }
 },
 "fullExtent": {
  "xmin": 2726042.8187561925,
  "ymin": 1291880.2816918036,
  "xmax": 4004538.7613885934,
  "ymax": 2180199.7869823766,
  "spatialReference": {
   "wkid": 102654,
   "latestWkid": 2232
  }
 },
 "pixelSizeX": 102.62449370945585,
 "pixelSizeY": 102.62471179419744,
 "bandCount": 3,
 "pixelType": "U8",
 "minPixelSize": 0,
 "maxPixelSize": 0,
 "copyrightText": "",
 "serviceDataType": "esriImageServiceDataTypeRGB",
 "minValues": [
  19,
  58,
  0
 ],
 "maxValues": [
  255,
  255,
  255
 ],
 "meanValues": [
  202.76249398534,
  205.75243959259,
  182.38980004238
 ],
 "stdvValues": [
  43.128129902301,
  37.129873805773,
  52.1804327444
 ],
 "objectIdField": "",
 "fields": [],
 "capabilities": "Image,Metadata,Mensuration",
 "defaultMosaicMethod": "Center",
 "allowedMosaicMethods": "",
 "sortField": "",
 "sortValue": null,
 "sortAscending": true,
 "mosaicOperator": "First",
 "defaultCompressionQuality": 75,
 "defaultResamplingMethod": "Bilinear",
 "maxImageHeight": 4100,
 "maxImageWidth": 15000,
 "allowRasterFunction": true,
 "rasterFunctionInfos": [
  {
   "name": "None",
   "description": "",
   "help": ""
  }
 ],
 "rasterTypeInfos": [
  {
   "name": "Raster Dataset",
   "description": "Supports all ArcGIS Raster Datasets",
   "help": ""
  }
 ],
 "mensurationCapabilities": "Basic",
 "hasHistograms": true,
 "hasColormap": false,
 "hasRasterAttributeTable": false,
 "minScale": 0,
 "maxScale": 0,
 "exportTilesAllowed": false,
 "hasMultidimensions": false,
 "supportsStatistics": false,
 "supportsAdvancedQueries": false,
 "editFieldsInfo": null,
 "ownershipBasedAccessControlForRasters": null,
 "allowComputeTiePoints": false,
 "useStandardizedQueries": true,
 "advancedQueryCapabilities": {
  "useStandardizedQueries": true,
  "supportsStatistics": false,
  "supportsOrderBy": false,
  "supportsDistinct": false,
  "supportsPagination": false
 },
 "spatialReference": {
  "wkid": 102654,
  "latestWkid": 2232
 }
}
