View In:
ArcGIS JavaScript
ArcGIS Online Map Viewer
ArcGIS Earth
ArcMap
View Footprint In:
ArcGIS Online Map Viewer
Service Description: Adams County Hillshade
Name: Hillshade
Description: Adams County Hillshade
Single Fused Map Cache: false
Extent:
XMin: 2726042.8187561925
YMin: 1291880.2816918036
XMax: 4004538.7613885934
YMax: 2180199.7869823766
Spatial Reference: 102654
(2232)
Initial Extent:
XMin: 2726042.8187561925
YMin: 1291880.2816918036
XMax: 4004538.7613885934
YMax: 2180199.7869823766
Spatial Reference: 102654
(2232)
Full Extent:
XMin: 2726042.8187561925
YMin: 1291880.2816918036
XMax: 4004538.7613885934
YMax: 2180199.7869823766
Spatial Reference: 102654
(2232)
Pixel Size X: 102.62449370945585
Pixel Size Y: 102.62471179419744
Band Count: 3
Pixel Type: U8
RasterFunction Infos: {"rasterFunctionInfos": [{
"name": "None",
"description": "",
"help": ""
}]}
Mensuration Capabilities: Basic
Has Histograms: true
Has Colormap: false
Has Multi Dimensions : false
Rendering Rule:
Min Scale: 0
Max Scale: 0
Copyright Text:
Service Data Type: esriImageServiceDataTypeRGB
Min Values: 19, 58, 0
Max Values: 255, 255, 255
Mean Values: 202.76249398534, 205.75243959259, 182.38980004238
Standard Deviation Values: 43.128129902301, 37.129873805773, 52.1804327444
Object ID Field:
Fields:
None
Default Mosaic Method: Center
Allowed Mosaic Methods:
SortField:
SortValue: null
Mosaic Operator: First
Default Compression Quality: 75
Default Resampling Method: Bilinear
Max Record Count: null
Max Image Height: 4100
Max Image Width: 15000
Max Download Image Count: null
Max Mosaic Image Count: null
Allow Raster Function: true
Allow Copy: null
Allow Analysis: null
Allow Compute TiePoints: false
Supports Statistics: false
Supports Advanced Queries: false
Use StandardizedQueries: true
Raster Type Infos:
Name: Raster Dataset
Description: Supports all ArcGIS Raster Datasets
Help:
Has Raster Attribute Table: false
Edit Fields Info: null
Ownership Based AccessControl For Rasters: null
Child Resources:
Info
Histograms
Key Properties
Legend
Raster Function Infos
Supported Operations:
Export Image
Identify
Measure
Compute Histograms
Compute Statistics Histograms
Get Samples
Compute Class Statistics
Query Boundary
Compute Pixel Location
Compute Angles
Validate
Project